Workbook

Sheet INSTRUCCIONES
B2: PORTADA
B3: Software Financiero y Contable
B5: Contenidos
B7: Esta plantilla incluye las siguientes hojas de trabajo
B8: TDC - Tabla de Contenidos
B9: Requisitos - detalle
B10: Puntuación - datos y gráfico para asistir en la evaluación de las respuestas de proveedores a los requisitos
B12: Seleccione la hoja en la parte inferior de la pantalla para completar la información
B14: Instrucciones
B15: Por favor, rellene este fichero como parte de su respuesta y adjúntelo al documento de solicitud de información
B17: Columna A (Ref) - referencia del requisito especificado
B18: Columna B (Requisito) - requisito específico
... B20: Columna D (MoSCoW) - Criterios de priorización
C21: M - Must = Debe
C22: S - Should = Debería
C23: C - Could = Deseable
C24: W - Won't = No necesario
B25: Columna E (Importancia) - peso del requisito en la evaluación
C26: 4 - requisito obligatorio, tan vital, que si no está disponible en el software, éste quedará excluido
C27: 3 - requisito esencial, con impacto en el negocio
C28: 2 - requisito deseable que mejoraría la eficiencia empresarial
C29: 1 - requisito positivo, que puede ser útil
C30: 0 - no requerido
B31: Columna F (Respuesta proveedor) - información adicional del proveedor
B32: Columna G (Evaluación proveedor) - cómo la solución cumple con este requisito
C33: Disponible / Soportado en la versión estándar
C34: Disponible con alguna personalización (especifique las modificaciones)
C35: Disponible a través de integración con software de terceros - integración existente con el estándar (especifique qué software)
C36: Necesita una importante modificación del estándar (especifique la modificación)
C37: Disponibilidad futura - con fecha fijada para su entrada en producción (indique fecha o versión)
C38: Necesita cambio código fuente
C39: Desarrollo con coste
C40: Disponibilidad futura - sin fecha conocida
C41: No disponible
B42: Columna H (Evaluación proveedor) - Autoevaluación de cada criterio funcional
C43: 3 - sobrepasa las expectativas
C44: 2 - cumple el requisito
C45: 1 - cumple parcialmente el requisito
C46: 0 - no cumple
B47: Columna I (Puntuación ponderada) - para la evaluación del proveedor
...

Sheet TDC
B2: DETALLE REQUISITOS
B3: para Software ERP
B5: TABLA DE CONTENIDOS
A7: 1 | B7: Libro Mayor
A8: 2 | B8: Libro de caja
A9: 3 | B9: Proceso de pedidos de venta
A10: 4 | B10: Work orders, bill of materials, kitting
A11: 5 | B11: Facturación
A12: 6 | B12: Cuentas a cobrar
A13: 7 | B13: Inventario
A14: 8 | B14: Proceso de compras
A15: 9 | B15: Procesamiento órdenes de trabajo
A16: 10 | B16: Cuentas a pagar
A17: 11 | B17: Gastos empleados
A18: 12 | B18: Activos Fijos
... A23: 17 | B23: Requisitos no funcionales

Sheet Requisitos
B2: Requisitos ERP
A5: Ref | B5: Requisito | C5: Detalle | D5: MoSCoW | E5: Importancia | F5: Respuesta Proveedor | G5: Evaluación Proveedor | H5: Puntuación Proveedor | I5: Resultado evaluación
B7: RFP Requirements Contents
A8: 1 | B8: Libro Mayor
A9: 2 | B9: Libro de Caja
A10: 3 | B10: Gestión de pedidos de venta
A11: 4 | B11: Órdenes de trabajo, lista de materiales, kits
A12: 5 | B12: Facturación
A13: 6 | B13: Cuentas a cobrar
A14: 7 | B14: Inventario
A15: 8 | B15: Gestión pedidos de compra
A16: 9 | B16: Gestión de órdenes de trabajo
A17: 10 | B17: Cuentas a pagar
A18: 11 | B18: Gastos empleados
A19: 12 | B19: Activos fijos
... A24: 17 | B24: Requisitos no funcionales
B25: Requisitos Funcionales
A26: 1 | B26: Libro Mayor
A27: 1.1 | B27: Plan de Cuentas
A28: 1.1.1 | B28: Plan de cuentas - ilimitado, estructuras de códigos de cuenta multi-segmento configurables. Por ejemplo: departamentos de la empresa, centros de coste, tipo de gastos, trabajo, actividad, ubicación, analisis. | I28: =E28*H28 -> 0
A29: 1.1.2 | B29: Codificación alfanumérica configurable, con extensión ilimitada, segmentos de código de cuenta
A30: 1.1.3 | B30: Secuencia de segmentos definible por el usuario
A31: 1.1.4 | B31: Códigos multi-nivel ilimitádo y múltiples sub-analisis
A32: 1.1.5 | B32: Posibilidad de rectificación del plan de cuentas -sujeto a aprobación-. Por ejemplo, cambiar los nombres de las cuentas, extensión, añadir segmentos, borrar códigos sin usar, cambiar centro de coste.
A33: 1.1.6 | B33: Creación de nuevas cuentas -sujeto a aprobación- de modo rápido
A34: 1.1.7 | B34: Nuevos códigos de cuenta automáticamente incluidos en la estructura jerárquica
A35: 1.1.8 | B35: Códigos abreviados definidos por el usuario y asociados a los códigos de cuenta especificados
A36: 1.1.9 | B36: Corregir descripción de los códigos -sujeto a aprobación-.
A37: 1.1.10 | B37: Soporta múltiples empresas
A38: 1.1.11 | B38: Estructura empresarial jerárquica configurable. I.e. regiones, unidades de negocio, departamentos, centros de coste
A39: 1.1.12 | B39: Códigos maestros y configuración de libros generados a demanda por el sistema
A40: 1.1.13 | B40: Plan de cuentas único para todas las empresas, entidades, departamentos y unidades de negocio del grupo
A41: 1.1.14 | B41: Largo máximo del número de cuenta ilimitado
A42: 1.2 | B42: Configuración Plan de Cuentas
A43: 1.2.1 | B43: Soporta múltiples esquemas contables totalmente integrados
A44: 1.2.1.1 | B44: - métodos contables de caja y devengos (accrual)
A45: 1.2.2 | B45: Contabilidad del comprometido
A46: 1.2.3 | B46: Contabilidad de gravámenes
A47: 1.2.4 | B47: Calendario contable con períodos definidos por el usuario. i.e. diario, semanal, mensual (calendario de 12 ó 13 períodos por año), trimestral, semestral, anual y variable. i.e. 52 ó 53 semanas por año.
A48: 1.2.5 | B48: Flexibilidad para añadir periodo(s) extra para procesar el cierre de año
...

Sheet Puntuación
B31: DATOS DE RESPUESTA | C31: Cumple Totalmente | E31: Importante y Cumple | I31: Priorización Objetivos
I32: Genéricos | N32: Específicos | S32: Total
B33: Requeriientos | C33: Target Score | D33: Evaluation Score | E33: Target Weighted Score | F33: Evaluation Weighted Score | G33: Fit % | I33: M | J33: S | K33: C | L33: W | M33: Total | N33: MS | O33: SS | P33: CS | Q33: WS | R33: Total | S33: M | T33: S | U33: C | V33: W | W33: Total
A34: 1 | B34: Libro Mayor | C34: =COUNTA(Requisitos!$D$26:$D$347)*2 -> 0 | D34: =+Requisitos!$H$348 -> 0 | E34: =SUM(Requisitos!$E$26:$E$347)*2 -> 0 | F34: =Requisitos!$I$348 -> 0 | G34: =IF(ISERROR(F34/E34),"",F34/E34) | I34: =S34-N34 -> 0 | J34: =T34-O34 -> 0 | K34: =U34-P34 -> 0 | L34: =V34-Q34 -> 0 | M34: =SUM(I34:L34) -> 0 | N34: =COUNTIF(Requisitos!$K$26:$K$347,N$31) -> 0 | O34: =COUNTIF(Requisitos!$K$26:$K$347,O$31) -> 0 | P34: =COUNTIF(Requisitos!$K$26:$K$347,P$31) -> 0 | Q34: =COUNTIF(Requisitos!$K$26:$K$347,Q$31) -> 0 | R34: =SUM(N34:Q34) -> 0 | S34: =COUNTIF(Requisitos!$D$26:$D$347,S$31) -> 0 | T34: =COUNTIF(Requisitos!$D$26:$D$347,T$31) -> 0 | U34: =COUNTIF(Requisitos!$D$26:$D$347,U$31) -> 0 | V34: =COUNTIF(Requisitos!$D$26:$D$347,V$31) -> 0 | W34: =SUM(S34:V34) -> 0
A35: 2 | B35: Libro de Caja | C35: =COUNTA(Requisitos!$D$351:$D$439)*2 -> 0 | D35: =+Requisitos!$H$440 -> 0 | E35: =SUM(Requisitos!$E$351:$E$439)*2 -> 0 | F35: =Requisitos!$I$440 -> 0 | G35: =IF(ISERROR(F35/E35),"",F35/E35) | I35: =S35-N35 -> 0 | J35: =T35-O35 -> 0 | K35: =U35-P35 -> 0 | L35: =V35-Q35 -> 0 | M35: =SUM(I35:L35) -> 0 | N35: =COUNTIF(Requisitos!$K$469:$K$561,N$31) -> 0 | O35: =COUNTIF(Requisitos!$K$469:$K$561,O$31) -> 0 | P35: =COUNTIF(Requisitos!$K$469:$K$561,P$31) -> 0 | Q35: =COUNTIF(Requisitos!$K$469:$K$561,Q$31) -> 0 | R35: =SUM(N35:Q35) -> 0 | S35: =COUNTIF(Requisitos!$D$469:$D$561,S$31) -> 0 | T35: =COUNTIF(Requisitos!$D$469:$D$561,T$31) -> 0 | U35: =COUNTIF(Requisitos!$D$469:$D$561,U$31) -> 0 | V35: =COUNTIF(Requisitos!$D$469:$D$561,V$31) -> 0 | W35: =SUM(S35:V35) -> 0
A36: 3 | B36: Gestión de pedidos de venta | C36: =COUNTA(Requisitos!$D$443:$D$889)*2 -> 0 | D36: =+Requisitos!$H$890 -> 0 | E36: =SUM(Requisitos!$E$443:$E$889)*2 -> 0 | F36: =Requisitos!$I$890 -> 0 | G36: =IF(ISERROR(F36/E36),"",F36/E36) | I36: =S36-N36 -> 0 | J36: =T36-O36 -> 0 | K36: =U36-P36 -> 0 | L36: =V36-Q36 -> 0 | M36: =SUM(I36:L36) -> 0 | N36: =COUNTIF(Requisitos!$K$562:$K$1014,N$31) -> 0 | O36: =COUNTIF(Requisitos!$K$562:$K$1014,O$31) -> 0 | P36: =COUNTIF(Requisitos!$K$562:$K$1014,P$31) -> 0 | Q36: =COUNTIF(Requisitos!$K$562:$K$1014,Q$31) -> 0 | R36: =SUM(N36:Q36) -> 0 | S36: =COUNTIF(Requisitos!$D$562:$D$1014,S$31) -> 0 | T36: =COUNTIF(Requisitos!$D$562:$D$1014,T$31) -> 0 | U36: =COUNTIF(Requisitos!$D$562:$D$1014,U$31) -> 0 | V36: =COUNTIF(Requisitos!$D$562:$D$1014,V$31) -> 0 | W36: =SUM(S36:V36) -> 0
A37: 4 | B37: Órdenes de trabajo, lista de materiales, kits | C37: =COUNTA(Requisitos!$D$893:$D$1066)*2 -> 0 | D37: =+Requisitos!$H$1067 -> 0 | E37: =SUM(Requisitos!$E$893:$E$1066)*2 -> 0 | F37: =Requisitos!$I$1067 -> 0 | G37: =IF(ISERROR(F37/E37),"",F37/E37) | I37: =S37-N37 -> 0 | J37: =T37-O37 -> 0 | K37: =U37-P37 -> 0 | L37: =V37-Q37 -> 0 | M37: =SUM(I37:L37) -> 0 | N37: =COUNTIF(Requisitos!$K$1015:$K$1190,N$31) -> 0 | O37: =COUNTIF(Requisitos!$K$1015:$K$1190,O$31) -> 0 | P37: =COUNTIF(Requisitos!$K$1015:$K$1190,P$31) -> 0 | Q37: =COUNTIF(Requisitos!$K$1015:$K$1190,Q$31) -> 0 | R37: =SUM(N37:Q37) -> 0 | S37: =COUNTIF(Requisitos!$D$1015:$D$1190,S$31) -> 0 | T37: =COUNTIF(Requisitos!$D$1015:$D$1190,T$31) -> 0 | U37: =COUNTIF(Requisitos!$D$1015:$D$1190,U$31) -> 0 | V37: =COUNTIF(Requisitos!$D$1015:$D$1190,V$31) -> 0 | W37: =SUM(S37:V37) -> 0
A38: 5 | B38: Facturación | C38: =COUNTA(Requisitos!$D$1070:$D$1180)*2 -> 0 | D38: =+Requisitos!$H$1181 -> 0 | E38: =SUM(Requisitos!$E$1070:$E$1180)*2 -> 0 | F38: =Requisitos!$I$1181 -> 0 | G38: =IF(ISERROR(F38/E38),"",F38/E38) | I38: =S38-N38 -> 0 | J38: =T38-O38 -> 0 | K38: =U38-P38 -> 0 | L38: =V38-Q38 -> 0 | M38: =SUM(I38:L38) -> 0 | N38: =COUNTIF(Requisitos!$K$1191:$K$1306,N$31) -> 0 | O38: =COUNTIF(Requisitos!$K$1191:$K$1306,O$31) -> 0 | P38: =COUNTIF(Requisitos!$K$1191:$K$1306,P$31) -> 0 | Q38: =COUNTIF(Requisitos!$K$1191:$K$1306,Q$31) -> 0 | R38: =SUM(N38:Q38) -> 0 | S38: =COUNTIF(Requisitos!$D$1191:$D$1306,S$31) -> 0 | T38: =COUNTIF(Requisitos!$D$1191:$D$1306,T$31) -> 0 | U38: =COUNTIF(Requisitos!$D$1191:$D$1306,U$31) -> 0 | V38: =COUNTIF(Requisitos!$D$1191:$D$1306,V$31) -> 0 | W38: =SUM(S38:V38) -> 0
A39: 6 | B39: Cuentas a cobrar | C39: =COUNTA(Requisitos!$D$1184:$D$1433)*2 -> 0 | D39: =+Requisitos!$H$1434 -> 0 | E39: =SUM(Requisitos!$E$1184:$E$1433)*2 -> 0 | F39: =Requisitos!$I$1434 -> 0 | G39: =IF(ISERROR(F39/E39),"",F39/E39) | I39: =S39-N39 -> 0 | J39: =T39-O39 -> 0 | K39: =U39-P39 -> 0 | L39: =V39-Q39 -> 0 | M39: =SUM(I39:L39) -> 0 | N39: =COUNTIF(Requisitos!$K$1307:$K$1560,N$31) -> 0 | O39: =COUNTIF(Requisitos!$K$1307:$K$1560,O$31) -> 0 | P39: =COUNTIF(Requisitos!$K$1307:$K$1560,P$31) -> 0 | Q39: =COUNTIF(Requisitos!$K$1307:$K$1560,Q$31) -> 0 | R39: =SUM(N39:Q39) -> 0 | S39: =COUNTIF(Requisitos!$D$1307:$D$1560,S$31) -> 0 | T39: =COUNTIF(Requisitos!$D$1307:$D$1560,T$31) -> 0 | U39: =COUNTIF(Requisitos!$D$1307:$D$1560,U$31) -> 0 | V39: =COUNTIF(Requisitos!$D$1307:$D$1560,V$31) -> 0 | W39: =SUM(S39:V39) -> 0
A40: 7 | B40: Inventario | C40: =COUNTA(Requisitos!$D$1184:$D$1433)*2 -> 0 | D40: =+Requisitos!$H$1434 -> 0 | E40: =SUM(Requisitos!$E$1184:$E$1433)*2 -> 0 | F40: =Requisitos!$I$1434 -> 0 | G40: =IF(ISERROR(F40/E40),"",F40/E40) | I40: =S40-N40 -> 0 | J40: =T40-O40 -> 0 | K40: =U40-P40 -> 0 | L40: =V40-Q40 -> 0 | M40: =SUM(I40:L40) -> 0 | N40: =COUNTIF(Requisitos!$K$1561:$K$1689,N$31) -> 0 | O40: =COUNTIF(Requisitos!$K$1561:$K$1689,O$31) -> 0 | P40: =COUNTIF(Requisitos!$K$1561:$K$1689,P$31) -> 0 | Q40: =COUNTIF(Requisitos!$K$1561:$K$1689,Q$31) -> 0 | R40: =SUM(N40:Q40) -> 0 | S40: =COUNTIF(Requisitos!$D$1561:$D$1689,S$31) -> 0 | T40: =COUNTIF(Requisitos!$D$1561:$D$1689,T$31) -> 0 | U40: =COUNTIF(Requisitos!$D$1561:$D$1689,U$31) -> 0 | V40: =COUNTIF(Requisitos!$D$1561:$D$1689,V$31) -> 0 | W40: =SUM(S40:V40) -> 0
A41: 8 | B41: Gestión pedidos de compra | C41: =COUNTA(Requisitos!$D$1184:$D$1433)*2 -> 0 | D41: =+Requisitos!$H$1434 -> 0 | E41: =SUM(Requisitos!$E$1184:$E$1433)*2 -> 0 | F41: =Requisitos!$I$1434 -> 0 | G41: =IF(ISERROR(F41/E41),"",F41/E41) | I41: =S41-N41 -> 0 | J41: =T41-O41 -> 0 | K41: =U41-P41 -> 0 | L41: =V41-Q41 -> 0 | M41: =SUM(I41:L41) -> 0 | N41: =COUNTIF(Requisitos!$K$1690:$K$2062,N$31) -> 0 | O41: =COUNTIF(Requisitos!$K$1690:$K$2062,O$31) -> 0 | P41: =COUNTIF(Requisitos!$K$1690:$K$2062,P$31) -> 0 | Q41: =COUNTIF(Requisitos!$K$1690:$K$2062,Q$31) -> 0 | R41: =SUM(N41:Q41) -> 0 | S41: =COUNTIF(Requisitos!$D$1690:$D$2062,S$31) -> 0 | T41: =COUNTIF(Requisitos!$D$1690:$D$2062,T$31) -> 0 | U41: =COUNTIF(Requisitos!$D$1690:$D$2062,U$31) -> 0 | V41: =COUNTIF(Requisitos!$D$1690:$D$2062,V$31) -> 0 | W41: =SUM(S41:V41) -> 0
A42: 9 | B42: Gestión de órdenes de trabajo | C42: =COUNTA(Requisitos!$D$1184:$D$1433)*2 -> 0 | D42: =+Requisitos!$H$1434 -> 0 | E42: =SUM(Requisitos!$E$1184:$E$1433)*2 -> 0 | F42: =Requisitos!$I$1434 -> 0 | G42: =IF(ISERROR(F42/E42),"",F42/E42) | I42: =S42-N42 -> 0 | J42: =T42-O42 -> 0 | K42: =U42-P42 -> 0 | L42: =V42-Q42 -> 0 | M42: =SUM(I42:L42) -> 0 | N42: =COUNTIF(Requisitos!$K$2063:$K$2103,N$31) -> 0 | O42: =COUNTIF(Requisitos!$K$2063:$K$2103,O$31) -> 0 | P42: =COUNTIF(Requisitos!$K$2063:$K$2103,P$31) -> 0 | Q42: =COUNTIF(Requisitos!$K$2063:$K$2103,Q$31) -> 0 | R42: =SUM(N42:Q42) -> 0 | S42: =COUNTIF(Requisitos!$D$2063:$D$2103,S$31) -> 0 | T42: =COUNTIF(Requisitos!$D$2063:$D$2103,T$31) -> 0 | U42: =COUNTIF(Requisitos!$D$2063:$D$2103,U$31) -> 0 | V42: =COUNTIF(Requisitos!$D$2063:$D$2103,V$31) -> 0 | W42: =SUM(S42:V42) -> 0
A43: 10 | B43: Cuentas a pagar | C43: =COUNTA(Requisitos!$D$1184:$D$1433)*2 -> 0 | D43: =+Requisitos!$H$1434 -> 0 | E43: =SUM(Requisitos!$E$1184:$E$1433)*2 -> 0 | F43: =Requisitos!$I$1434 -> 0 | G43: =IF(ISERROR(F43/E43),"",F43/E43) | I43: =S43-N43 -> 0 | J43: =T43-O43 -> 0 | K43: =U43-P43 -> 0 | L43: =V43-Q43 -> 0 | M43: =SUM(I43:L43) -> 0 | N43: =COUNTIF(Requisitos!$K$2104:$K$2279,N$31) -> 0 | O43: =COUNTIF(Requisitos!$K$2104:$K$2279,O$31) -> 0 | P43: =COUNTIF(Requisitos!$K$2104:$K$2279,P$31) -> 0 | Q43: =COUNTIF(Requisitos!$K$2104:$K$2279,Q$31) -> 0 | R43: =SUM(N43:Q43) -> 0 | S43: =COUNTIF(Requisitos!$D$2104:$D$2279,S$31) -> 0 | T43: =COUNTIF(Requisitos!$D$2104:$D$2279,T$31) -> 0 | U43: =COUNTIF(Requisitos!$D$2104:$D$2279,U$31) -> 0 | V43: =COUNTIF(Requisitos!$D$2104:$D$2279,V$31) -> 0 | W43: =SUM(S43:V43) -> 0
A44: 11 | B44: Gastos empleados | C44: =COUNTA(Requisitos!$D$1184:$D$1433)*2 -> 0 | D44: =+Requisitos!$H$1434 -> 0 | E44: =SUM(Requisitos!$E$1184:$E$1433)*2 -> 0 | F44: =Requisitos!$I$1434 -> 0 | G44: =IF(ISERROR(F44/E44),"",F44/E44) | I44: =S44-N44 -> 0 | J44: =T44-O44 -> 0 | K44: =U44-P44 -> 0 | L44: =V44-Q44 -> 0 | M44: =SUM(I44:L44) -> 0 | N44: =COUNTIF(Requisitos!$K$2280:$K$2385,N$31) -> 0 | O44: =COUNTIF(Requisitos!$K$2280:$K$2385,O$31) -> 0 | P44: =COUNTIF(Requisitos!$K$2280:$K$2385,P$31) -> 0 | Q44: =COUNTIF(Requisitos!$K$2280:$K$2385,Q$31) -> 0 | R44: =SUM(N44:Q44) -> 0 | S44: =COUNTIF(Requisitos!$D$2280:$D$2385,S$31) -> 0 | T44: =COUNTIF(Requisitos!$D$2280:$D$2385,T$31) -> 0 | U44: =COUNTIF(Requisitos!$D$2280:$D$2385,U$31) -> 0 | V44: =COUNTIF(Requisitos!$D$2280:$D$2385,V$31) -> 0 | W44: =SUM(S44:V44) -> 0
A45: 12 | B45: Activos fijos | C45: =COUNTA(Requisitos!$D$1184:$D$1433)*2 -> 0 | D45: =+Requisitos!$H$1434 -> 0 | E45: =SUM(Requisitos!$E$1184:$E$1433)*2 -> 0 | F45: =Requisitos!$I$1434 -> 0 | G45: =IF(ISERROR(F45/E45),"",F45/E45) | I45: =S45-N45 -> 0 | J45: =T45-O45 -> 0 | K45: =U45-P45 -> 0 | L45: =V45-Q45 -> 0 | M45: =SUM(I45:L45) -> 0 | N45: =COUNTIF(Requisitos!$K$2386:$K$2610,N$31) -> 0 | O45: =COUNTIF(Requisitos!$K$2386:$K$2610,O$31) -> 0 | P45: =COUNTIF(Requisitos!$K$2386:$K$2610,P$31) -> 0 | Q45: =COUNTIF(Requisitos!$K$2386:$K$2610,Q$31) -> 0 | R45: =SUM(N45:Q45) -> 0 | S45: =COUNTIF(Requisitos!$D$2386:$D$2610,S$31) -> 0 | T45: =COUNTIF(Requisitos!$D$2386:$D$2610,T$31) -> 0 | U45: =COUNTIF(Requisitos!$D$2386:$D$2610,U$31) -> 0 | V45: =COUNTIF(Requisitos!$D$2386:$D$2610,V$31) -> 0 | W45: =SUM(S45:V45) -> 0
A46: 13 | B46: Coste de trabajo / proyecto | C46: =COUNTA(Requisitos!$D$1184:$D$1433)*2 -> 0 | D46: =+Requisitos!$H$1434 -> 0 | E46: =SUM(Requisitos!$E$1184:$E$1433)*2 -> 0 | F46: =Requisitos!$I$1434 -> 0 | G46: =IF(ISERROR(F46/E46),"",F46/E46) | I46: =S46-N46 -> 0 | J46: =T46-O46 -> 0 | K46: =U46-P46 -> 0 | L46: =V46-Q46 -> 0 | M46: =SUM(I46:L46) -> 0 | N46: =COUNTIF(Requisitos!$K$2611:$K$2706,N$31) -> 0 | O46: =COUNTIF(Requisitos!$K$2611:$K$2706,O$31) -> 0 | P46: =COUNTIF(Requisitos!$K$2611:$K$2706,P$31) -> 0 | Q46: =COUNTIF(Requisitos!$K$2611:$K$2706,Q$31) -> 0 | R46: =SUM(N46:Q46) -> 0 | S46: =COUNTIF(Requisitos!$D$2611:$D$2706,S$31) -> 0 | T46: =COUNTIF(Requisitos!$D$2611:$D$2706,T$31) -> 0 | U46: =COUNTIF(Requisitos!$D$2611:$D$2706,U$31) -> 0 | V46: =COUNTIF(Requisitos!$D$2611:$D$2706,V$31) -> 0 | W46: =SUM(S46:V46) -> 0
A47: 14 | B47: Gestión de agentes de campo y servicios | C47: =COUNTA(Requisitos!$D$1184:$D$1433)*2 -> 0 | D47: =+Requisitos!$H$1434 -> 0 | E47: =SUM(Requisitos!$E$1184:$E$1433)*2 -> 0 | F47: =Requisitos!$I$1434 -> 0 | G47: =IF(ISERROR(F47/E47),"",F47/E47) | I47: =S47-N47 -> 0 | J47: =T47-O47 -> 0 | K47: =U47-P47 -> 0 | L47: =V47-Q47 -> 0 | M47: =SUM(I47:L47) -> 0 | N47: =COUNTIF(Requisitos!$K$2707:$K$2908,N$31) -> 0 | O47: =COUNTIF(Requisitos!$K$2707:$K$2908,O$31) -> 0 | P47: =COUNTIF(Requisitos!$K$2707:$K$2908,P$31) -> 0 | Q47: =COUNTIF(Requisitos!$K$2707:$K$2908,Q$31) -> 0 | R47: =SUM(N47:Q47) -> 0 | S47: =COUNTIF(Requisitos!$D$2707:$D$2908,S$31) -> 0 | T47: =COUNTIF(Requisitos!$D$2707:$D$2908,T$31) -> 0 | U47: =COUNTIF(Requisitos!$D$2707:$D$2908,U$31) -> 0 | V47: =COUNTIF(Requisitos!$D$2707:$D$2908,V$31) -> 0 | W47: =SUM(S47:V47) -> 0
A48: 15 | B48: Anlítica avanzada y BI | C48: =COUNTA(Requisitos!$D$1184:$D$1433)*2 -> 0 | D48: =+Requisitos!$H$1434 -> 0 | E48: =SUM(Requisitos!$E$1184:$E$1433)*2 -> 0 | F48: =Requisitos!$I$1434 -> 0 | G48: =IF(ISERROR(F48/E48),"",F48/E48) | I48: =S48-N48 -> 0 | J48: =T48-O48 -> 0 | K48: =U48-P48 -> 0 | L48: =V48-Q48 -> 0 | M48: =SUM(I48:L48) -> 0 | N48: =COUNTIF(Requisitos!$K$2909:$K$3066,N$31) -> 0 | O48: =COUNTIF(Requisitos!$K$2909:$K$3066,O$31) -> 0 | P48: =COUNTIF(Requisitos!$K$2909:$K$3066,P$31) -> 0 | Q48: =COUNTIF(Requisitos!$K$2909:$K$3066,Q$31) -> 0 | R48: =SUM(N48:Q48) -> 0 | S48: =COUNTIF(Requisitos!$D$2909:$D$3066,S$31) -> 0 | T48: =COUNTIF(Requisitos!$D$2909:$D$3066,T$31) -> 0 | U48: =COUNTIF(Requisitos!$D$2909:$D$3066,U$31) -> 0 | V48: =COUNTIF(Requisitos!$D$2909:$D$3066,V$31) -> 0 | W48: =SUM(S48:V48) -> 0
A49: 16 | B49: Requisitos comunes a todos los módulos | C49: =COUNTA(Requisitos!$D$1184:$D$1433)*2 -> 0 | D49: =+Requisitos!$H$1434 -> 0 | E49: =SUM(Requisitos!$E$1184:$E$1433)*2 -> 0 | F49: =Requisitos!$I$1434 -> 0 | G49: =IF(ISERROR(F49/E49),"",F49/E49) | I49: =S49-N49 -> 0 | J49: =T49-O49 -> 0 | K49: =U49-P49 -> 0 | L49: =V49-Q49 -> 0 | M49: =SUM(I49:L49) -> 0 | N49: =COUNTIF(Requisitos!$K$3067:$K$3475,N$31) -> 0 | O49: =COUNTIF(Requisitos!$K$3067:$K$3475,O$31) -> 0 | P49: =COUNTIF(Requisitos!$K$3067:$K$3475,P$31) -> 0 | Q49: =COUNTIF(Requisitos!$K$3067:$K$3475,Q$31) -> 0 | R49: =SUM(N49:Q49) -> 0 | S49: =COUNTIF(Requisitos!$D$3067:$D$3475,S$31) -> 0 | T49: =COUNTIF(Requisitos!$D$3067:$D$3475,T$31) -> 0 | U49: =COUNTIF(Requisitos!$D$3067:$D$3475,U$31) -> 0 | V49: =COUNTIF(Requisitos!$D$3067:$D$3475,V$31) -> 0 | W49: =SUM(S49:V49) -> 0
A50: 17 | B50: Requisitos no funcionales | C50: =COUNTA(Requisitos!$D$1184:$D$1433)*2 -> 0 | D50: =+Requisitos!$H$1434 -> 0 | E50: =SUM(Requisitos!$E$1184:$E$1433)*2 -> 0 | F50: =Requisitos!$I$1434 -> 0 | G50: =IF(ISERROR(F50/E50),"",F50/E50) | I50: =S50-N50 -> 0 | J50: =T50-O50 -> 0 | K50: =U50-P50 -> 0 | L50: =V50-Q50 -> 0 | M50: =SUM(I50:L50) -> 0 | N50: =COUNTIF(Requisitos!$K$3477:$K$4202,N$31) -> 0 | O50: =COUNTIF(Requisitos!$K$3477:$K$4202,O$31) -> 0 | P50: =COUNTIF(Requisitos!$K$3477:$K$4202,P$31) -> 0 | Q50: =COUNTIF(Requisitos!$K$3477:$K$4202,Q$31) -> 0 | R50: =SUM(N50:Q50) -> 0 | S50: =COUNTIF(Requisitos!$D$3477:$D$4202,S$31) -> 0 | T50: =COUNTIF(Requisitos!$D$3477:$D$4202,T$31) -> 0 | U50: =COUNTIF(Requisitos!$D$3477:$D$4202,U$31) -> 0 | V50: =COUNTIF(Requisitos!$D$3477:$D$4202,V$31) -> 0 | W50: =SUM(S50:V50) -> 0
C52: =SUM(C34:C51) -> 0 | D52: =SUM(D34:D51) -> 0 | E52: =SUM(E34:E51) -> 0 | F52: =SUM(F34:F51) -> 0 | G52: =IF(ISERROR(F52/E52),"",F52/E52) | I52: =SUM(I34:I51) -> 0 | J52: =SUM(J34:J51) -> 0 | K52: =SUM(K34:K51) -> 0 | L52: =SUM(L34:L51) -> 0 | M52: =SUM(M34:M51) -> 0 | N52: =SUM(N34:N51) -> 0 | O52: =SUM(O34:O51) -> 0 | P52: =SUM(P34:P51) -> 0 | ... W52: =SUM(W34:W51) -> 0
I53: =I52/M52 -> #DIV/0! | J53: =J52/M52 -> #DIV/0! | K53: =K52/M52 -> #DIV/0! | L53: =L52/M52 -> #DIV/0! | N53: =N52/R52 -> #DIV/0! | O53: =O52/R52 -> #DIV/0! | P53: =P52/R52 -> #DIV/0! | Q53: =Q52/R52 -> #DIV/0! | S53: =S52/W52 -> #DIV/0! | T53: =T52/W52 -> #DIV/0! | U53: =U52/W52 -> #DIV/0! | V53: =V52/W52 -> #DIV/0!
I54: =I52/S52 -> #DIV/0! | J54: =J52/T52 -> #DIV/0! | K54: =K52/U52 -> #DIV/0! | L54: =L52/V52 -> #DIV/0! | N54: =N52/S52 -> #DIV/0! | O54: =O52/T52 -> #DIV/0! | P54: =P52/U52 -> #DIV/0! | Q54: =Q52/V52 -> #DIV/0!

Sheet Hoja2
A1: Columna1
A2: M | E2: Vendor evaluation
A3: S | E3: Disponible / Soportado en la versión estándar
A4: C | E4: Disponible con alguna personalización (especifique las modificaciones)
A5: W | E5: Disponible a través de integración con software de terceros - integración existente con el estándar (especifique qué software)
A6: Importancia | E6: Necesita una importante modificación del estándar (especifique la modificación)
A7: 4 | E7: Disponibilidad futura - con fecha fijada para su entrada en producción (indique fecha o versión)
A8: 3 | E8: Necesita cambio código fuente
A9: 2 | E9: Desarrollo con coste
A10: 1 | E10: Disponibilidad futura - sin fecha conocida
E11: No disponible
A12: 0
A15: Puntuación proveedor
A16: 3
A17: 2
A18: 1
A20: 0
